BEGIN:VCALENDAR
VERSION:2.0
PRODID:-//Events aus Nachhaltigkeit, Kultur und Gesellschaft - ECPv6.15.18//NONSGML v1.0//EN
CALSCALE:GREGORIAN
METHOD:PUBLISH
X-WR-CALNAME:Events aus Nachhaltigkeit, Kultur und Gesellschaft
X-ORIGINAL-URL:https://eventfuchs.org
X-WR-CALDESC:Veranstaltungen für Events aus Nachhaltigkeit, Kultur und Gesellschaft
REFRESH-INTERVAL;VALUE=DURATION:PT1H
X-Robots-Tag:noindex
X-PUBLISHED-TTL:PT1H
BEGIN:VTIMEZONE
TZID:Europe/Berlin
BEGIN:DAYLIGHT
TZOFFSETFROM:+0100
TZOFFSETTO:+0200
TZNAME:CEST
DTSTART:20240331T010000
END:DAYLIGHT
BEGIN:STANDARD
TZOFFSETFROM:+0200
TZOFFSETTO:+0100
TZNAME:CET
DTSTART:20241027T010000
END:STANDARD
BEGIN:DAYLIGHT
TZOFFSETFROM:+0100
TZOFFSETTO:+0200
TZNAME:CEST
DTSTART:20250330T010000
END:DAYLIGHT
BEGIN:STANDARD
TZOFFSETFROM:+0200
TZOFFSETTO:+0100
TZNAME:CET
DTSTART:20251026T010000
END:STANDARD
BEGIN:DAYLIGHT
TZOFFSETFROM:+0100
TZOFFSETTO:+0200
TZNAME:CEST
DTSTART:20260329T010000
END:DAYLIGHT
BEGIN:STANDARD
TZOFFSETFROM:+0200
TZOFFSETTO:+0100
TZNAME:CET
DTSTART:20261025T010000
END:STANDARD
END:VTIMEZONE
BEGIN:VEVENT
DTSTART;TZID=Europe/Berlin:20251027T100000
DTEND;TZID=Europe/Berlin:20251027T110000
DTSTAMP:20260425T193157
CREATED:20251017T115427Z
LAST-MODIFIED:20251017T115427Z
UID:13615-1761559200-1761562800@eventfuchs.org
SUMMARY:Online: Lebendigkeits-Challenge
DESCRIPTION:8 Wochen – Vom Funktionieren ins Menschsein \nStart: 27. Oktober 2025\nBeitrag: Zahle\, was Du willst \n✨ Spürst Du\, daß da mehr Leben in Dir steckt?\nWir funktionieren. Wir leisten. Wir halten durch.\nOft vergessen wir dabei das Wichtigste: zu leben.\nDiese Challenge ist eine Einladung\, keine Aufgabe.\nEin Raum zum Innehalten\, zum Fühlspüren und Erinnern.\nAn Dich. An Dein Sein. An Deine Lebendigkeit. \n✨ Was dich erwartet:\n8 Wochen\, 8 Themen\, die Dich sanft und wahrhaftig zurückbringen in Verbindung mit Dir selbst:\n• Woche 1: Wach werden\n• Woche 2: Dein Körper ist Dein Zuhause\n• Woche 3: Sicherheit im Nervensystem\n• Woche 4: Spiel statt Ziel\n• Woche 5: Lache dein Leben\n• Woche 6: Kreativität ist deine Natur\n• Woche 7: Verbindung zur Natur\n• Woche 8: Ich entscheide mich für Lebendigkeit \n✨ So läuft’s ab:\nDu bekommst wöchentlich eine E-Mail mit:\no einem liebevoll geschriebenen Impulstext\no einer Mini-Übung für die Woche (5–10 Minuten täglich)\nKein Live-Call\, kein Zeitdruck – du gestaltest in Deinem Tempo \n✨ Dein Beitrag:\nZahle\, was Du willst. Wahrhaftige Verbindung ist unbezahlbar\nund dennoch darf es einen Energieausgleich geben.\nDu wählst bei der Anmeldung den Betrag\, der sich für Dich stimmig anfühlt. \n✨ Für wen ist die Challenge?\nFür Dich\, wenn Du…\n• mehr spüren statt funktionieren willst\n• Dein Nervensystem sanft regulieren möchtest\n• Dich wieder mit Deinem Körper\, Deinen Gefühlen & Deinem inneren Kind verbinden willst\n• Dich nach Tiefe\, Leichtigkeit und einem echten JA zum Leben sehnst \n✨ Infos und Anmeldung:\nja@lebendigmenschsein.jetzt\nhttps://lebendigmenschsein.jetzt/lebendigkeits-challenge/
URL:https://eventfuchs.org/event/online-lebendigkeits-challenge/
LOCATION:Online
CATEGORIES:Bildung,Online,Vortrag, Diskussion, Debatte
ATTACH;FMTTYPE=image/png:https://eventfuchs.org/wp-content/uploads/2025/10/Lebendigkeit.png
ORGANIZER;CN="Svenja Yvonne Reithner":MAILTO:svenja@lebendigmenschsein.jetzt
END:VEVENT
END:VCALENDAR