BEGIN:VCALENDAR
VERSION:2.0
PRODID:-//Events aus Nachhaltigkeit, Kultur und Gesellschaft - ECPv6.15.18//NONSGML v1.0//EN
CALSCALE:GREGORIAN
METHOD:PUBLISH
X-WR-CALNAME:Events aus Nachhaltigkeit, Kultur und Gesellschaft
X-ORIGINAL-URL:https://eventfuchs.org
X-WR-CALDESC:Veranstaltungen für Events aus Nachhaltigkeit, Kultur und Gesellschaft
REFRESH-INTERVAL;VALUE=DURATION:PT1H
X-Robots-Tag:noindex
X-PUBLISHED-TTL:PT1H
BEGIN:VTIMEZONE
TZID:Europe/Berlin
BEGIN:DAYLIGHT
TZOFFSETFROM:+0100
TZOFFSETTO:+0200
TZNAME:CEST
DTSTART:20240331T010000
END:DAYLIGHT
BEGIN:STANDARD
TZOFFSETFROM:+0200
TZOFFSETTO:+0100
TZNAME:CET
DTSTART:20241027T010000
END:STANDARD
BEGIN:DAYLIGHT
TZOFFSETFROM:+0100
TZOFFSETTO:+0200
TZNAME:CEST
DTSTART:20250330T010000
END:DAYLIGHT
BEGIN:STANDARD
TZOFFSETFROM:+0200
TZOFFSETTO:+0100
TZNAME:CET
DTSTART:20251026T010000
END:STANDARD
BEGIN:DAYLIGHT
TZOFFSETFROM:+0100
TZOFFSETTO:+0200
TZNAME:CEST
DTSTART:20260329T010000
END:DAYLIGHT
BEGIN:STANDARD
TZOFFSETFROM:+0200
TZOFFSETTO:+0100
TZNAME:CET
DTSTART:20261025T010000
END:STANDARD
END:VTIMEZONE
BEGIN:VEVENT
DTSTART;TZID=Europe/Berlin:20251031T180000
DTEND;TZID=Europe/Berlin:20251031T230000
DTSTAMP:20260424T124907
CREATED:20251024T103453Z
LAST-MODIFIED:20251024T103453Z
UID:13695-1761933600-1761951600@eventfuchs.org
SUMMARY:Offenbach: Women In Water
DESCRIPTION:Nach über 2 Jahren sind wir erneut in der wunderschönen Jugendstil-Villa des ehemaligen Fabrikanten Fr. Julius Heyne zu Gast. Dort erleben wir die AUSSTELLUNG DES JAHRES!! Wir sehen die einzigartigen Kunstwerke des letzten noch lebenden Pop Art-Künstlers James Francis Gill mit der Ausstellung „WOMEN IN WATER“. Die Gastgeberin\, Kuratorin und Kunsthistorikerin wird uns durch die wunderschöne Villa mit beeindruckenden Bildern einer Ikone führen. \nUnsere Eindrücke dieser faszinierenden Ausstellung im besonderen Ambiente einer architektonisch wertvollen Villa besprechen wir beim anschließenden SOCIALIZING im „White Elefant“. \nDIE HEYNE-VILLA\nDie repräsentative Villa des Fabrikanten Fr. Julius Heyne wurde 1911 vom Architekten Philipp Forster entworfen. Das zweigeschossige Gebäude unter dem hohen Mansarddach enthält neobarocke Details. Die Einbauten der Villa sind im Stile des Jugendstils ausgebildet. Alle Einbauten sind im Original von 1911 erhalten. Besonders hervorzuheben ist der einzigartige Kamin im Erdgeschoss. \nVom Moderator der Veranstaltung Jörg J. Schurig erhalten wir interessante Informationen über die Heyne-Villa. \nDER KÜNSTLER & SEINE KUNST\nDer heute 91-jährige US-amerikanische Maler James Francis Gill wurde 1934 in Texas geboren und gehört zu den bedeutendsten Pop Art Künstlern der Geschichte. Dazu zählt James Francis Gill neben Andy Warhol und James Rosenquist auch zu den Ersten der amerikanischen Pop Art\, die bis heute noch bedeutende Werke direkt nach dem Tod von Marilyn Monroe schufen. Von den POP-ART Künstlern der ersten Stunde ist James Francis Gill der einzige noch lebende Vertreter dieses elitären Zirkels. Seinen großen Durchbruch erlebte der Künstler bereits 1962\, als das New Yorker Museum of Modern Art sein aus drei Tafeln bestehendes Gemälde „Marilyn Triptych“ in seine ständige Sammlung aufnahm. \nBereits vor 2 Jahren erlebten wir bei einer Sonderführung durch die Ausstellung „Marilyn Monroes Paintings“ Unikate und Serigrafien aus den Anfängen der amerikanischen Pop Art im Jahr 1962. Nun ist Francis Gill zurück mit seiner neuen Werkreihe „WOMEN IN WATER“\, welche als eine Weiterentwicklung seiner ersten Werkreihe „Women in Cars“ betrachtet werden kann. In seinen neuesten Werken verbindet er seine charakteristische Pop-Art-Ästhetik mit neuen fließenden Elementen\, die die Beziehung zwischen Frauen und dem Element Wasser thematisieren. \nViele Zeitgenossen sahen in seinen Werken einen tiefgründigen und vielschichtigen Sinn\, mehr als die Pop Art auszudrücken beabsichtigte. „…Gill ist ein prominenter Künstler der Pop Art\, obwohl er zu sehr Maler ist und mit seinen Themen in einer sehr emotional aufgeladenen Art umgeht\, als nur als ein Pop Art Künstler zu gelten…“\, schrieb die Los Angeles Times vor 60 Jahren\, am 8.11.1965. Das Werk des Künstlers war und ist unvergleichbar. In dieser erstklassigen Ausstellung wird die Qualität der künstlerischen Kraft dieser letzten noch lebenden Pop Art Ikone deutlich. \nAn diesem besonderen Kunst-Abend in der HEYNE-VILLA erleben wir eine exklusive Führung mit der Gastgeberin\, Kuratorin und Kunsthistorikerin durch die Ausstellung. \nKUNSTGESRÄCHE & SOCIALIZING IM „WHITE ELEFANT“\nNach dem Besuch der Heyne-Villa und der exklusiven Sonderführung durch die Ausstellung wollen wir uns wie immer über die erlebte Kunst und Architektur bei einem Glas Wein und leckerem Essen unterhalten. Wie bereits nach unserem letzten Besuch im Deutschen Wetterdienst sind wir zu Gast im indischen Restaurant „White Elefant“. Plätze für 20 Personen sind für uns reserviert. \nWer zeitgenössische Kunst in einem historischen Gebäude erleben möchte\, ist bei dieser Veranstaltung in der HEYNE-Villa genau richtig. \nTREFFPUNKT\n31.10.25\, 18:00 Uhr\, DRAUSSEN (!!) vor dem Eingang der Heyne-Villa\, Schillstrasse 2 im schönen Westend\, 63067 Offenbach am Main \nEINMALIGES INVESTMENT\nnur 29\,- Euro für einen exklusiven Abend in den Räumen der architektonisch wertvollen Heyne-Villa\, Besichtigung einer Kunstausstellung des letzten noch lebenden Pop Art Künstlers\, exklusive Sonderführung mit der Gastgeberin und Kunsthistorikerin durch die beeindruckende Sammlung\, \, kurze Einführung des Moderators zur Geschichte und Architektur der Heyne-Villa\, Wein und alkoholfreie Getränke\, reservierter Platz beim Inder\, Recherche\, Konzeption\, Organisation\, SOCIALIZING etc. zusammen mit kommunikativen\, kunst- und architektur-interessierten Leuten. \nVERBINDLICHE ANMELDUNG/AGB\nbis 26.10.25\nÜberweisung bis 28.10.25\nMind. Teilnehmerzahl: 12 Pers.\nMax. Teilnehmerzahl: 20 Pers. \n©James Francis Gil: Colorful Horizon. \nANMELDUNG
URL:https://eventfuchs.org/event/women-in-water/
LOCATION:HEYNE VILLA im WESTEND & WHITE ELEPHANT\, Schillstraße 2\, Offenbach\, Hessen\, 63067\, Germany
CATEGORIES:Freizeit,Kultur,Netzwerken,Präsenzveranstaltung
ATTACH;FMTTYPE=image/png:https://eventfuchs.org/wp-content/uploads/2025/10/1760891698221.png
END:VEVENT
BEGIN:VEVENT
DTSTART;TZID=Europe/Berlin:20251031T190000
DTEND;TZID=Europe/Berlin:20251031T210000
DTSTAMP:20260424T124907
CREATED:20251031T124039Z
LAST-MODIFIED:20251031T124039Z
UID:13851-1761937200-1761944400@eventfuchs.org
SUMMARY:Berlin: Die Nacht des Generalstabs - Europa zwischen Krieg und Frieden - Wird Deutschland zum Schlachtfeld?
DESCRIPTION:In der Ukraine rücken russische Truppen vor. Experten beziffern die Zahl der Gefallenen mit fast 2 Mio. Die Front bröckelt. Die Präsidenten Trump und Putin verhandeln über Frieden. Europa will den Krieg fortsetzen. Wird es bald wieder heißen: Die Deutschen an die Front? Wie kann das Abschlachten beendet werden? Ist Europa noch zu retten? Drei Experten im Bürgerdialog: \nGeneral a.D. Harald Kujat\nOberst a.D. Ralph Bosshard\nVizeadmiral a.D. Kay-Achim Schönbach \nModeration: Patrik Baab \nUm Anmeldung wird gebeten unter:\ntorsten.hochmuth@mailbox.org
URL:https://eventfuchs.org/event/die-nacht-des-generalstabs/
LOCATION:Genossenschaftssaal „Vorwärts eG“\, Einbecker Straße 115\, Berlin\, Berlin\, 10315\, Germany
CATEGORIES:Bildung,Nachhaltigkeit,Netzwerken,Präsenzveranstaltung,Vortrag, Diskussion, Debatte
ATTACH;FMTTYPE=image/jpeg:https://eventfuchs.org/wp-content/uploads/2025/10/Generalstab.jpg
END:VEVENT
END:VCALENDAR