BEGIN:VCALENDAR
VERSION:2.0
PRODID:-//Events aus Nachhaltigkeit, Kultur und Gesellschaft - ECPv6.15.18//NONSGML v1.0//EN
CALSCALE:GREGORIAN
METHOD:PUBLISH
X-WR-CALNAME:Events aus Nachhaltigkeit, Kultur und Gesellschaft
X-ORIGINAL-URL:https://eventfuchs.org
X-WR-CALDESC:Veranstaltungen für Events aus Nachhaltigkeit, Kultur und Gesellschaft
REFRESH-INTERVAL;VALUE=DURATION:PT1H
X-Robots-Tag:noindex
X-PUBLISHED-TTL:PT1H
BEGIN:VTIMEZONE
TZID:Europe/Berlin
BEGIN:DAYLIGHT
TZOFFSETFROM:+0100
TZOFFSETTO:+0200
TZNAME:CEST
DTSTART:20240331T010000
END:DAYLIGHT
BEGIN:STANDARD
TZOFFSETFROM:+0200
TZOFFSETTO:+0100
TZNAME:CET
DTSTART:20241027T010000
END:STANDARD
BEGIN:DAYLIGHT
TZOFFSETFROM:+0100
TZOFFSETTO:+0200
TZNAME:CEST
DTSTART:20250330T010000
END:DAYLIGHT
BEGIN:STANDARD
TZOFFSETFROM:+0200
TZOFFSETTO:+0100
TZNAME:CET
DTSTART:20251026T010000
END:STANDARD
BEGIN:DAYLIGHT
TZOFFSETFROM:+0100
TZOFFSETTO:+0200
TZNAME:CEST
DTSTART:20260329T010000
END:DAYLIGHT
BEGIN:STANDARD
TZOFFSETFROM:+0200
TZOFFSETTO:+0100
TZNAME:CET
DTSTART:20261025T010000
END:STANDARD
END:VTIMEZONE
BEGIN:VEVENT
DTSTART;TZID=Europe/Berlin:20251126T173000
DTEND;TZID=Europe/Berlin:20251126T193000
DTSTAMP:20260423T003416
CREATED:20251027T130447Z
LAST-MODIFIED:20251027T165012Z
UID:13731-1764178200-1764185400@eventfuchs.org
SUMMARY:Hamburg: Citynetwalk Industriekultur | Hafencity Speicherstadt
DESCRIPTION:Hauptbahnhof – Hafencity – Speicherstadt – Elbphilharmonie\nLiebe Netwalkerin\, lieber Netzwerkspaziergänger\, liebe Hamburgfans\, \nherzlich willkommen zum Citynetwalk\, dem Netzwerkspaziergang durch die Hamburger Industriekultur.Freunde\, KundInnen und Kollegen sind ebenfalls willkommen. \nNach einer kurzen Vorstellungsrunde entdecken wir gemeinsam Hamburg im Wandel. Mögliche Stationen\, drinnen und draußen sind Jupiter – Levantehaus – Deichtorhallen\, Oberhafenkantine – Hafencity – 25 h – Speicherstadt – Elbphilharmonie. \nFür Deine Anfahrt: beachte bitte\, dass dieser Netwalk am Hauptbahnhof startet und an an der Elbphilharmonie/ bzw. am Baumwall endet. \nWer Lust hat\, kommt nach dem Walk mit in die Blickbar: Zum Trinken\, Essen\, Klönen\, Netzwerken\, Freundschaften pflegen\, entspannt den Feierabend einläuten. \nWir treffen uns am Mittwoch\, 26.11.2025 um 17.30 Uhr in der Wandelhalle\, Ausgang Spitalerstraße im 1. OG. \nBewegte Grüße \nAngelina Pego \nVerbindliche Anmeldung\nFür die bessere Planung für alle Teilnehmer: Der Walk findet statt\, wenn sich außer mir fünf TeilnehmerInnen bis Sonntag\, 23.11.2025 verbindlich angemeldet haben. \nTeilnahmebedingungen\nDie Teilnahme am Walk ist kostenfrei. Verzehr und Getränke übernimmt ggf. jede/r selbst. Jede/r TeilnehmerIn haftet für sich. \nOrganisation Angelina Pego | Moderatorin Netwalking Hamburg \n#Business Kontakte #Business Networking #Social Networking #netwalkinghamburg \n\n\n\n\n\nGrafik+Fotos\nDominicConcepts\, Angelina Pego
URL:https://eventfuchs.org/event/citynetwalk-industriekultur-2/
LOCATION:Wandelhalle\, Ausgang Spitalerstraße im 1. OG\, Glockengießerwall 8\, Hamburg\, Hamburg\, 20095\, Germany
CATEGORIES:Freizeit,Kultur,Nachhaltigkeit,Netzwerken,Präsenzveranstaltung,Sport
ATTACH;FMTTYPE=image/jpeg:https://eventfuchs.org/wp-content/uploads/2025/02/Elphi.jpg
ORGANIZER;CN="Angelina Pego":MAILTO:post@angelina-pego.de
END:VEVENT
END:VCALENDAR