BEGIN:VCALENDAR
VERSION:2.0
PRODID:-//Events aus Nachhaltigkeit, Kultur und Gesellschaft - ECPv6.15.18//NONSGML v1.0//EN
CALSCALE:GREGORIAN
METHOD:PUBLISH
X-WR-CALNAME:Events aus Nachhaltigkeit, Kultur und Gesellschaft
X-ORIGINAL-URL:https://eventfuchs.org
X-WR-CALDESC:Veranstaltungen für Events aus Nachhaltigkeit, Kultur und Gesellschaft
REFRESH-INTERVAL;VALUE=DURATION:PT1H
X-Robots-Tag:noindex
X-PUBLISHED-TTL:PT1H
BEGIN:VTIMEZONE
TZID:Europe/Berlin
BEGIN:DAYLIGHT
TZOFFSETFROM:+0100
TZOFFSETTO:+0200
TZNAME:CEST
DTSTART:20240331T010000
END:DAYLIGHT
BEGIN:STANDARD
TZOFFSETFROM:+0200
TZOFFSETTO:+0100
TZNAME:CET
DTSTART:20241027T010000
END:STANDARD
BEGIN:DAYLIGHT
TZOFFSETFROM:+0100
TZOFFSETTO:+0200
TZNAME:CEST
DTSTART:20250330T010000
END:DAYLIGHT
BEGIN:STANDARD
TZOFFSETFROM:+0200
TZOFFSETTO:+0100
TZNAME:CET
DTSTART:20251026T010000
END:STANDARD
BEGIN:DAYLIGHT
TZOFFSETFROM:+0100
TZOFFSETTO:+0200
TZNAME:CEST
DTSTART:20260329T010000
END:DAYLIGHT
BEGIN:STANDARD
TZOFFSETFROM:+0200
TZOFFSETTO:+0100
TZNAME:CET
DTSTART:20261025T010000
END:STANDARD
END:VTIMEZONE
BEGIN:VEVENT
DTSTART;TZID=Europe/Berlin:20251227T140000
DTEND;TZID=Europe/Berlin:20251227T160000
DTSTAMP:20260423T190629
CREATED:20251226T122815Z
LAST-MODIFIED:20251226T122815Z
UID:14603-1766844000-1766851200@eventfuchs.org
SUMMARY:Reichelsheim: Friedliche Versammlung für Selbstbestimmung\, Grund- und Freiheitsrechte - Demonstration
DESCRIPTION:Reichelsheim: Ortseingang/Aldi\n\n\n\nBeginn: Sa. 27.12. 14:00 Uhr\, Ende: 16:00 Uhr\, Frequenz: wöchentlich\n\n\nSeit April 2020 stehen mutige Menschen jeden Samstag an der Straße 🙂
URL:https://eventfuchs.org/event/selbstbestimmung/
LOCATION:Parkplatz vor dem ALDI Süd\, Bahnhofstraße 28\, Reichelsheim\, Hessen\, 64385\, Germany
CATEGORIES:Bildung,Demonstration,Freizeit,Nachhaltigkeit,Netzwerken,Präsenzveranstaltung,Vortrag, Diskussion, Debatte
ATTACH;FMTTYPE=image/png:https://eventfuchs.org/wp-content/uploads/2025/12/Reichelsheim-Demo.png
END:VEVENT
BEGIN:VEVENT
DTSTART;TZID=Europe/Berlin:20251227T200000
DTEND;TZID=Europe/Berlin:20251227T220000
DTSTAMP:20260423T190629
CREATED:20251226T125356Z
LAST-MODIFIED:20251226T125356Z
UID:14608-1766865600-1766872800@eventfuchs.org
SUMMARY:München: Platz! der Freiheit
DESCRIPTION:„Platz! der Freiheit“ im Dezember (Folge 31)\nMünchen: Basis\, Schleißheimer Straße 189 \nBeginn: Sa. 27.12. 20:00 Uhr\, Ende: 23:00 Uhr\, Frequenz: monatlich \nDer schönste Ort für Literatur und Musik in München verabschiedet das Jahr – mit „4 Wochen Wahnsinn“ sowie schönen Liedern und Texten\, abseits der Mainstreamkultur\, mit Franz Esser\, Michael Sailer und eventuellen Gästen. \nVorwiegend heiter\, nachwiegend ernst\, rebellisch\, schräg und absolut frei — \n—- Ort: Die Basis-Basis in der Schleißheimer Straße 189. Das ist ein schöner Raum\, wo wir gut aufgehoben sind und ihr herzlich willkommen seid —- \nAuch der Eintritt ist frei\, Spenden sind willkommen. Wer sichergehen möchte\, möge sich bitte einen Platz reservieren – einfach eine Mail an sailer@michaelsailer.de schicken. Oder hier melden (und sich eventuell auch auf unsere Rundmail-Liste setzen lassen). Oder spontan vorbeischauen.
URL:https://eventfuchs.org/event/muenchen-platz-der-freiheit/
LOCATION:Bürgerbüro der basis\, Schleißheimer Straße 189\, München\, Bayern\, 80797\, Germany
CATEGORIES:Bildung,Freizeit,Kultur,Nachhaltigkeit,Netzwerken,Präsenzveranstaltung,Vortrag, Diskussion, Debatte
ATTACH;FMTTYPE=image/png:https://eventfuchs.org/wp-content/uploads/2025/12/Sailer.png
ORGANIZER;CN="Michael Sailer":MAILTO:sailer@michaelsailer.de
END:VEVENT
END:VCALENDAR