BEGIN:VCALENDAR
VERSION:2.0
PRODID:-//Events aus Nachhaltigkeit, Kultur und Gesellschaft - ECPv6.15.18//NONSGML v1.0//EN
CALSCALE:GREGORIAN
METHOD:PUBLISH
X-WR-CALNAME:Events aus Nachhaltigkeit, Kultur und Gesellschaft
X-ORIGINAL-URL:https://eventfuchs.org
X-WR-CALDESC:Veranstaltungen für Events aus Nachhaltigkeit, Kultur und Gesellschaft
REFRESH-INTERVAL;VALUE=DURATION:PT1H
X-Robots-Tag:noindex
X-PUBLISHED-TTL:PT1H
BEGIN:VTIMEZONE
TZID:Europe/Berlin
BEGIN:DAYLIGHT
TZOFFSETFROM:+0100
TZOFFSETTO:+0200
TZNAME:CEST
DTSTART:20250330T010000
END:DAYLIGHT
BEGIN:STANDARD
TZOFFSETFROM:+0200
TZOFFSETTO:+0100
TZNAME:CET
DTSTART:20251026T010000
END:STANDARD
BEGIN:DAYLIGHT
TZOFFSETFROM:+0100
TZOFFSETTO:+0200
TZNAME:CEST
DTSTART:20260329T010000
END:DAYLIGHT
BEGIN:STANDARD
TZOFFSETFROM:+0200
TZOFFSETTO:+0100
TZNAME:CET
DTSTART:20261025T010000
END:STANDARD
BEGIN:DAYLIGHT
TZOFFSETFROM:+0100
TZOFFSETTO:+0200
TZNAME:CEST
DTSTART:20270328T010000
END:DAYLIGHT
BEGIN:STANDARD
TZOFFSETFROM:+0200
TZOFFSETTO:+0100
TZNAME:CET
DTSTART:20271031T010000
END:STANDARD
END:VTIMEZONE
BEGIN:VEVENT
DTSTART;TZID=Europe/Berlin:20260310T173000
DTEND;TZID=Europe/Berlin:20260310T210000
DTSTAMP:20260425T123620
CREATED:20260301T171540Z
LAST-MODIFIED:20260301T171540Z
UID:15091-1773163800-1773176400@eventfuchs.org
SUMMARY:Lübeck: Netzwerkspaziergang durch die Altstadt
DESCRIPTION:Nach unseren letzten immer besser besuchten Veranstaltungen gehen wir mit dem NetWalk in den Frühling. Diesmal am Dienstag\, den 10. März wie immer um 17.30 Uhr unterm Holstentor beginnend. Ich / wir freuen uns auf Euch als auch auf viele weitere neue Gesichter sowie natürlich unsere „Stammgäste“.\nMeldet Euch bitte an\, daß ich dann auch für den im Nachgang geplanten Lokalbesuch entsprechend Plätze reservieren kann. Dafür gebt mir bitte auch VERBINDLICH mit auf\, ob Ihr dann auch im Nachgang beim Essen dabei seid!!!!! \nNeben Eurer Bekanntgabe bei mir\, ob Ihr mit zum Essen nach dem Walk kommt\, notiert Euch die nächsten schon feststehenden Termine:\nSAVE THE DATE\nAm Freitag\, den 27. März wird der Stammtisch um 18 Uhr stattfinden – Restaurant muß ich noch reservieren. Gebe ich später bekannt.\nMontag\, den 13. April abermals NetWalk um 17.30 Uhr und am Freitag\, den 24. April den Stammtisch um 18 Uhr. \nEuer etwas anderer Stadtführer Lübecks\nAxel\nhttps://lnkd.in/edAT2SPJ
URL:https://eventfuchs.org/event/luebeck-netzwerkspaziergang-326/
LOCATION:Holstentor\, Holstentorplatz\, Lübeck\, Schleswig-Holstein\, 23552\, Deutschland
CATEGORIES:Freizeit,Nachhaltigkeit,Netzwerken,Präsenzveranstaltung
ATTACH;FMTTYPE=image/png:https://eventfuchs.org/wp-content/uploads/2024/04/Luebeck.png
ORGANIZER;CN="Axel Schattschneider":MAILTO:axelschattschneider@googlemail.com
END:VEVENT
BEGIN:VEVENT
DTSTART;TZID=Europe/Berlin:20260310T190000
DTEND;TZID=Europe/Berlin:20260310T210000
DTSTAMP:20260425T123620
CREATED:20251215T171101Z
LAST-MODIFIED:20260221T143520Z
UID:14526-1773169200-1773176400@eventfuchs.org
SUMMARY:Hamburg: HAUPTSACHE THEATER - politisch motivierter Swing
DESCRIPTION:„Hauptsache Theater“\, das ist politisch motivierter Swing\, intelligentes Musikkabarett\, bei dem qualitativ einfach alles stimmt. \nDas Theater ist der beste Ort der Welt. Das findet zumindest Melanie Haupt. Denn es sei der Ort\, an dem wir als Gesellschaft seit tausenden von Jahren zusammenkommen.\nJa\, gut\, am Anfang saßen wir noch ums Lagerfeuer\, und okay\, dass mit dem Feuer ist heute schwierig wegen der ganzen Brandschutzverordnungen\, aber das Prinzip ist immer noch das gleiche:\nWir sitzen zusammen und erzählen uns was\, so ganz analog und real. Es gibt Dinge\, die sind perfekt\, die haben sich einfach bewährt. Wie das Theater. \nUnd Swing-Musik! Die ist nur noch nicht so alt. Wenn Melanie Haupt Swing-Musik hört\, ist sie sofort gut drauf. Deswegen hat sie die politischen Themen\, die sie beschäftigen\, mit Swing-Musik kombiniert. Weil\, eins ist ja mal klar\, in dieser anspruchsvollen Zeit dürfen wir die gute Laune auf gar keinen Fall verlieren! \nBegleitet wird die Kabarettistin deshalb von dem wunderbaren Musiker Jonathan Bratoëff (Gitarre und Bass). \nOnline-Tickets und Abendkasse ab 18 Uhr: 30 € (nur Barzahlung)
URL:https://eventfuchs.org/event/hauptsache-theater-hh/
LOCATION:Rudolf Steiner Haus\, Mittelweg 11-12\, Hamburg\, 20148
CATEGORIES:Kinder,Kultur,Präsenzveranstaltung
ATTACH;FMTTYPE=image/png:https://eventfuchs.org/wp-content/uploads/2025/12/hauptsache_theater_ticket.png
ORGANIZER;CN="Mut zu Zwischent%C3%B6nen":MAILTO:info@mutzuzwischentoenen.org
END:VEVENT
END:VCALENDAR