BEGIN:VCALENDAR
VERSION:2.0
PRODID:-//Events aus Nachhaltigkeit, Kultur und Gesellschaft - ECPv6.15.18//NONSGML v1.0//EN
CALSCALE:GREGORIAN
METHOD:PUBLISH
X-WR-CALNAME:Events aus Nachhaltigkeit, Kultur und Gesellschaft
X-ORIGINAL-URL:https://eventfuchs.org
X-WR-CALDESC:Veranstaltungen für Events aus Nachhaltigkeit, Kultur und Gesellschaft
REFRESH-INTERVAL;VALUE=DURATION:PT1H
X-Robots-Tag:noindex
X-PUBLISHED-TTL:PT1H
BEGIN:VTIMEZONE
TZID:Europe/Berlin
BEGIN:DAYLIGHT
TZOFFSETFROM:+0100
TZOFFSETTO:+0200
TZNAME:CEST
DTSTART:20250330T010000
END:DAYLIGHT
BEGIN:STANDARD
TZOFFSETFROM:+0200
TZOFFSETTO:+0100
TZNAME:CET
DTSTART:20251026T010000
END:STANDARD
BEGIN:DAYLIGHT
TZOFFSETFROM:+0100
TZOFFSETTO:+0200
TZNAME:CEST
DTSTART:20260329T010000
END:DAYLIGHT
BEGIN:STANDARD
TZOFFSETFROM:+0200
TZOFFSETTO:+0100
TZNAME:CET
DTSTART:20261025T010000
END:STANDARD
BEGIN:DAYLIGHT
TZOFFSETFROM:+0100
TZOFFSETTO:+0200
TZNAME:CEST
DTSTART:20270328T010000
END:DAYLIGHT
BEGIN:STANDARD
TZOFFSETFROM:+0200
TZOFFSETTO:+0100
TZNAME:CET
DTSTART:20271031T010000
END:STANDARD
END:VTIMEZONE
BEGIN:VEVENT
DTSTART;TZID=Europe/Berlin:20260422T071500
DTEND;TZID=Europe/Berlin:20260422T084500
DTSTAMP:20260424T175026
CREATED:20260326T194605Z
LAST-MODIFIED:20260326T194605Z
UID:15264-1776842100-1776847500@eventfuchs.org
SUMMARY:Online: Das 8-elemente-Rezept
DESCRIPTION:Das 8-elemente-Rezept für Verwandlung in Handlung\nVortrag von Jason Smith und Netzwerken\nAcht praktische Elemente\, um Menschen konsequent von Interesse zur Handlung zu führen. \n\nMehr Infos und Anmeldung
URL:https://eventfuchs.org/event/8-elemente-rezept/
LOCATION:Online
CATEGORIES:Bildung,Netzwerken,Online,Vortrag, Diskussion, Debatte
ATTACH;FMTTYPE=image/png:https://eventfuchs.org/wp-content/uploads/2026/03/jason-Smith.png
ORGANIZER;CN="Hanse Business Community":MAILTO:info@hanse-bc.com
END:VEVENT
BEGIN:VEVENT
DTSTART;TZID=Europe/Berlin:20260422T150000
DTEND;TZID=Europe/Berlin:20260422T163000
DTSTAMP:20260424T175026
CREATED:20260417T115925Z
LAST-MODIFIED:20260417T120153Z
UID:15409-1776870000-1776875400@eventfuchs.org
SUMMARY:Hamburg: Angriff auf Presse- und Meinungsfreiheit
DESCRIPTION:Keine Kontokündigung für den Russland-Korrespondenten Ulrich Heyden!\nKundgebung vor der HASPA-Zentrale \nam Mittwoch d. 22. 4. um 15 Uhr\nDammtorstraße 1 \nWir sind erschrocken darüber\, dass die HASPA dem Hamburger Redakteur und Autor\, der in Moskau lebt\, für Ende April das Konto\ngekündigt hat\, auf das er für seine berufliche Arbeit angewiesen ist. \nWir kennen und schätzen Ulrich Heyden als einen sachlichen Berichterstatter über Russland. Wir wollen nicht zulassen\, daß ein\nMensch\, der sich der Feindbild-Propaganda gegen Russland mit Sachkenntnis entgegenstellt\, von dem Kreditinstitut\, das auch unser\nGeld verwaltet\, deshalb in seiner Existenz bedroht wird. Dieses Vorgehen erinnert uns an ein sehr düsteres Kapitel deutscher\nGeschichte. Wir haben Vorstand und Aufsichtsrat um ein Gespräch gebeten\, das uns bis jetzt nicht gewährt wurde. \ni.A. Beate Klaphake-Griebner\nKontakt: 0173 6127392 \n\n\nSie sehen gerade einen Platzhalterinhalt von Standard. Um auf den eigentlichen Inhalt zuzugreifen\, klicken Sie auf den Button unten. Bitte beachten Sie\, dass dabei Daten an Drittanbieter weitergegeben werden. \n Inhalt entsperren Erforderlichen Service akzeptieren und Inhalte entsperren \n Weitere Informationen
URL:https://eventfuchs.org/event/angriff-auf-presse-und-meinungsfreiheit/
LOCATION:HASPA Filiale\, Dammtorstraße 1\, Hamburg\, Hamburg\, 20354\, Germany
CATEGORIES:Demonstration,Netzwerken,Präsenzveranstaltung,Vortrag, Diskussion, Debatte
ATTACH;FMTTYPE=image/png:https://eventfuchs.org/wp-content/uploads/2026/04/Screenshot-2026-04-17-135904.png
END:VEVENT
END:VCALENDAR