BEGIN:VCALENDAR
VERSION:2.0
PRODID:-//Events aus Nachhaltigkeit, Kultur und Gesellschaft - ECPv6.15.18//NONSGML v1.0//EN
CALSCALE:GREGORIAN
METHOD:PUBLISH
X-WR-CALNAME:Events aus Nachhaltigkeit, Kultur und Gesellschaft
X-ORIGINAL-URL:https://eventfuchs.org
X-WR-CALDESC:Veranstaltungen für Events aus Nachhaltigkeit, Kultur und Gesellschaft
REFRESH-INTERVAL;VALUE=DURATION:PT1H
X-Robots-Tag:noindex
X-PUBLISHED-TTL:PT1H
BEGIN:VTIMEZONE
TZID:Europe/Berlin
BEGIN:DAYLIGHT
TZOFFSETFROM:+0100
TZOFFSETTO:+0200
TZNAME:CEST
DTSTART:20250330T010000
END:DAYLIGHT
BEGIN:STANDARD
TZOFFSETFROM:+0200
TZOFFSETTO:+0100
TZNAME:CET
DTSTART:20251026T010000
END:STANDARD
BEGIN:DAYLIGHT
TZOFFSETFROM:+0100
TZOFFSETTO:+0200
TZNAME:CEST
DTSTART:20260329T010000
END:DAYLIGHT
BEGIN:STANDARD
TZOFFSETFROM:+0200
TZOFFSETTO:+0100
TZNAME:CET
DTSTART:20261025T010000
END:STANDARD
BEGIN:DAYLIGHT
TZOFFSETFROM:+0100
TZOFFSETTO:+0200
TZNAME:CEST
DTSTART:20270328T010000
END:DAYLIGHT
BEGIN:STANDARD
TZOFFSETFROM:+0200
TZOFFSETTO:+0100
TZNAME:CET
DTSTART:20271031T010000
END:STANDARD
END:VTIMEZONE
BEGIN:VEVENT
DTSTART;TZID=Europe/Berlin:20260425T100000
DTEND;TZID=Europe/Berlin:20260426T180000
DTSTAMP:20260425T142321
CREATED:20260402T151010Z
LAST-MODIFIED:20260402T151219Z
UID:15282-1777111200-1777226400@eventfuchs.org
SUMMARY:Lübeck: GO.GRØØN – Messe für Nachhaltiges und Faires
DESCRIPTION:Die GO.GRØØN – Messe für Nachhaltiges und Faires kehrt 2026 zum dritten Mal zurück in die MUK Lübeck. Als wachsendes Messeformat für nachhaltiges Leben\, gesellschaftliche Verantwortung und grüne Innovation hat sich die GO.GRØØN zur Leitmesse in Schleswig-Holstein entwickelt. Unter dem Motto „So bunt wie das Leben“ öffnet die Messe erneut kostenfrei ihre Türen und macht nachhaltige Produkte\, Ideen und Visionen für alle erlebbar. \nIn diesem Jahr findet die GO.GRØØN erstmals in Kooperation mit der LN‑ePower statt – der Erlebnismesse für Technik rund ums Zuhause\, die Garage und die Straße. So erweitert sich das Angebot um moderne Energie‑ und Haustechnik\, E‑Mobilität und smarte Anwendungen.\nWeitere Infos finden Sie hier. \nEintritt frei.
URL:https://eventfuchs.org/event/luebeck-go-groon-messe-fuer-nachhaltiges-und-faires/
LOCATION:Musik- und Kongresshalle Lübeck\, Willy-Brandt-Allee 10\, Lübeck\, 23554
CATEGORIES:Bildung,Freizeit,Nachhaltigkeit,Netzwerken,Präsenzveranstaltung,Vortrag, Diskussion, Debatte
ATTACH;FMTTYPE=image/webp:https://eventfuchs.org/wp-content/uploads/2026/04/go.groeoen.webp
ORGANIZER;CN="L%C3%BCbecker Musik- und Kongre%C3%9Fhallen GmbH":MAILTO:kontakt@muk.de
END:VEVENT
BEGIN:VEVENT
DTSTART;TZID=Europe/Berlin:20260425T200000
DTEND;TZID=Europe/Berlin:20260425T230000
DTSTAMP:20260425T142321
CREATED:20260424T110545Z
LAST-MODIFIED:20260424T110545Z
UID:15449-1777147200-1777158000@eventfuchs.org
SUMMARY:München: Platz! der Freiheit
DESCRIPTION:„Platz! der Freiheit“\nMünchen: Basis\, Schleißheimer Straße 189 \nBeginn: 25. April\, 20:00 Uhr\, Ende: 23:00 Uhr\, Frequenz: monatlich \nDer schönste Ort für Literatur und Musik in München verabschiedet das Jahr – mit „4 Wochen Wahnsinn“ sowie schönen Liedern und Texten\, abseits der Mainstreamkultur\, mit Franz Esser\, Michael Sailer und eventuellen Gästen. \nVorwiegend heiter\, nachwiegend ernst\, rebellisch\, schräg und absolut frei — \n—- Ort: Die Basis-Basis in der Schleißheimer Straße 189. Das ist ein schöner Raum\, wo wir gut aufgehoben sind und ihr herzlich willkommen seid —- \nAuch der Eintritt ist frei\, Spenden sind willkommen. Wer sichergehen möchte\, möge sich bitte einen Platz reservieren – einfach eine Mail an sailer@michaelsailer.de schicken. Oder hier melden (und sich eventuell auch auf unsere Rundmail-Liste setzen lassen). Oder spontan vorbeischauen.
URL:https://eventfuchs.org/event/platz-der-freiheit-426/
LOCATION:Bürgerbüro der basis\, Schleißheimer Straße 189\, München\, Bayern\, 80797\, Germany
CATEGORIES:Bildung,Freizeit,Kultur,Nachhaltigkeit,Netzwerken,Präsenzveranstaltung,Vortrag, Diskussion, Debatte
ATTACH;FMTTYPE=image/png:https://eventfuchs.org/wp-content/uploads/2026/04/Screenshot-2026-04-24-130333.png
ORGANIZER;CN="Michael Sailer":MAILTO:sailer@michaelsailer.de
END:VEVENT
END:VCALENDAR