BEGIN:VCALENDAR
VERSION:2.0
PRODID:-//Events aus Nachhaltigkeit, Kultur und Gesellschaft - ECPv6.15.18//NONSGML v1.0//EN
CALSCALE:GREGORIAN
METHOD:PUBLISH
X-WR-CALNAME:Events aus Nachhaltigkeit, Kultur und Gesellschaft
X-ORIGINAL-URL:https://eventfuchs.org
X-WR-CALDESC:Veranstaltungen für Events aus Nachhaltigkeit, Kultur und Gesellschaft
REFRESH-INTERVAL;VALUE=DURATION:PT1H
X-Robots-Tag:noindex
X-PUBLISHED-TTL:PT1H
BEGIN:VTIMEZONE
TZID:Europe/Berlin
BEGIN:DAYLIGHT
TZOFFSETFROM:+0100
TZOFFSETTO:+0200
TZNAME:CEST
DTSTART:20250330T010000
END:DAYLIGHT
BEGIN:STANDARD
TZOFFSETFROM:+0200
TZOFFSETTO:+0100
TZNAME:CET
DTSTART:20251026T010000
END:STANDARD
BEGIN:DAYLIGHT
TZOFFSETFROM:+0100
TZOFFSETTO:+0200
TZNAME:CEST
DTSTART:20260329T010000
END:DAYLIGHT
BEGIN:STANDARD
TZOFFSETFROM:+0200
TZOFFSETTO:+0100
TZNAME:CET
DTSTART:20261025T010000
END:STANDARD
BEGIN:DAYLIGHT
TZOFFSETFROM:+0100
TZOFFSETTO:+0200
TZNAME:CEST
DTSTART:20270328T010000
END:DAYLIGHT
BEGIN:STANDARD
TZOFFSETFROM:+0200
TZOFFSETTO:+0100
TZNAME:CET
DTSTART:20271031T010000
END:STANDARD
END:VTIMEZONE
BEGIN:VEVENT
DTSTART;TZID=Europe/Berlin:20260924T190000
DTEND;TZID=Europe/Berlin:20260924T220000
DTSTAMP:20260425T122753
CREATED:20260420T125716Z
LAST-MODIFIED:20260420T125716Z
UID:15428-1790276400-1790287200@eventfuchs.org
SUMMARY:Hamburg: Enquete-Talk: Gibt´s eine Corona-Aufklärung? - Tom Lausen berichtet
DESCRIPTION:Wir nehmen Julia Klöckner beim Wort. „Aufarbeitung ist Chance für die Demokratie“ – sagt die Präsidentin des Bundestages zum Start der neuen Enquetekommission. \nNutzen wir gemeinsam die Chance\, dass Tom Lausen als Sachverständiger Datenanalyst dem Gremium angehört. \nIn der vierten Ausgabe des „Enquete-Talk“ berichtet er erneut exklusiv über seine Eindrücke\, Einschätzungen und Erwartungen. \nSeien Sie mit dabei! \nWIR\, die von der staatlichen Corona-Maßnahmen betroffenen Bürger haben in Tom Lausen nun einen „Anwalt für unsere Anliegen“. \nDiskutieren und überlegen wir gemeinsam: \n\nWelche Fragen müssen aufgearbeitet werden?\nWas muß alles auf den Tisch\, damit eine echte Aufklärung passieren kann?\nWer ist für welche Fehler verantwortlich?\nWelche Konsequenzen muss es geben?\nWas wünschen Sie sich als Ergebnis der Arbeit der Enquetekommission?\n\nGespräch mit Tom Lausen\, Sachverständiger in der Enquetekommission Corona des Deutschen Bundestages\nModeration:  Martin Nieswandt \n 
URL:https://eventfuchs.org/event/enquete-talk-4/
LOCATION:Rudolf Steiner Haus\, Mittelweg 11-12\, Hamburg\, 20148
CATEGORIES:Bildung,Netzwerken,Präsenzveranstaltung,Vortrag, Diskussion, Debatte
ATTACH;FMTTYPE=image/jpeg:https://eventfuchs.org/wp-content/uploads/2025/11/TomLausen_ticket.jpg
ORGANIZER;CN="Mut zu Zwischent%C3%B6nen":MAILTO:info@mutzuzwischentoenen.org
END:VEVENT
BEGIN:VEVENT
DTSTART;TZID=Europe/Berlin:20261013T190000
DTEND;TZID=Europe/Berlin:20261013T213000
DTSTAMP:20260425T122753
CREATED:20251209T121227Z
LAST-MODIFIED:20260127T125052Z
UID:14465-1791918000-1791927000@eventfuchs.org
SUMMARY:Hamburg: Ich verstehe was\, was Du nicht sagst!
DESCRIPTION:Musikkabarett mit Melanie Haupt und Judith Jakob \nBrigitte ist Kinderbuchautorin und arbeitslos. Klar\, sowas schreibt heute alles die KI. Ein bisschen beneidet sie ihre beste Freundin Gala. Die ist Influencerin und scheffelt Geld wie Heu und das ganz ohne Inhalte.\nAber dann kommt plötzlich ein Jobangebot aus dem SchwarzWeißenHaus: Der Präsident hat ein Kommunikationsproblem (soll ja vorkommen). Ein seltsames Ei hängt in der Luft. Er ist richtig sauer\, denn es macht ihm seine schönen Umfragewerte kaputt. Das Ei ist längst viral gegangen. Googlehupf und FinstaKram haben ihre Aligatorithem losgeschickt\, um aus der Angst der „User“ ihre Profite zu schlagen…\nJetzt gilt es\, dem Volk diesen Sachverhalt in einfacher Sprache zu erklären\, damit niemand durchdreht. Wird Brigitte es schaffen\, die „richtigen“ Worte zu finden? Gibt’s die überhaupt? \nJede Kommunikation ist ein Unikat. Nicht umsonst steckt das Wort Unikat im Wort Komm-UNIKAT-ion schon mit drin! Sie kann uns erhellen und berauschen. Sie kann verletzen\, aber zum Glück auch verbinden. Gerne ist sie auch ambivalent. Vor allem\, wenn man miteinander in einen gewaltfreien Dialog tritt. Vieles ist aber auch ohne Worte. Und dann hilft nur noch eins: Singen! Man kann nicht gleichzeitig Singen und Angst haben. Zusammen mit dem Musiker Jonathan Bratoëff werden wir den Versuch wagen\, ganz offensichtlich zwischen den Zeilen und unter Zuhilfenahme der Kommunikationstheorien von Schulz von Thun vieles und doch wenig zu sagen\, was Sie über Kommunikation wissen sollten. \nWir freuen uns darauf\, mit Ihnen in Kontakt zu treten. Völlig gewaltfrei natürlich. \nFrühbucher-Online-Tickets buchbar bis 13.09.\nAbendkasse ab 18 Uhr: 30 € (nur Barzahlung)
URL:https://eventfuchs.org/event/ich-verstehe-hh/
LOCATION:Rudolf Steiner Haus\, Mittelweg 11-12\, Hamburg\, 20148
CATEGORIES:Freizeit,Kultur,Präsenzveranstaltung
ATTACH;FMTTYPE=image/jpeg:https://eventfuchs.org/wp-content/uploads/2025/12/verstehe-was-Ticket.jpg
ORGANIZER;CN="Mut zu Zwischent%C3%B6nen":MAILTO:info@mutzuzwischentoenen.org
END:VEVENT
BEGIN:VEVENT
DTSTART;TZID=Europe/Berlin:20261104T090000
DTEND;TZID=Europe/Berlin:20261105T140000
DTSTAMP:20260425T122753
CREATED:20260402T160953Z
LAST-MODIFIED:20260402T160953Z
UID:15302-1793782800-1793887200@eventfuchs.org
SUMMARY:Berlin: BAM! Bock auf Morgen Festival
DESCRIPTION:Wir sind ein großartiges Land und ein Vorreiter in Sachen Umwelt- und Klimaschutz!  \nHinter einem Vorhang aus ökokritischen Jammerlappen und konservativen Retrodecken verbirgt sich einebrodelnde und innovative Community von Markt- und Meinungsführerenden\, die verstanden haben\, dass Nachhaltigkeit die neue Wettbewerbsfähigkeit ist. Unternehmen\, die ihre Innovationspipeline im Griff und Bock auf Wachstum haben: Greenwashing Ciao. Green Cashing Wow!  \nAuch Bock auf Finanzwende\, Bauwende\, Ernährungswende\, Beauty-Wende & Stimmungswende? Sei dabei! \nOn top gibt es fantastische Formate & Features: Matchmaking\, Exhibition\, Pre-Dinner\, Co-Creation / Activism\, M4F Award (neu)\, Show / Entertainment\, Food / Drinks \nTickets kaufen \n 
URL:https://eventfuchs.org/event/berlin-bam-bock-auf-morgen-festival/
LOCATION:Festsaal Kreuzberg\, Am Flutgraben 2\, Berlin\, 12435
CATEGORIES:Nachhaltigkeit,Netzwerken,Präsenzveranstaltung,Vortrag, Diskussion, Debatte
ATTACH;FMTTYPE=image/webp:https://eventfuchs.org/wp-content/uploads/2026/04/image.webp
END:VEVENT
END:VCALENDAR