BEGIN:VCALENDAR
VERSION:2.0
PRODID:-//Events aus Nachhaltigkeit, Kultur und Gesellschaft - ECPv6.15.18//NONSGML v1.0//EN
CALSCALE:GREGORIAN
METHOD:PUBLISH
X-WR-CALNAME:Events aus Nachhaltigkeit, Kultur und Gesellschaft
X-ORIGINAL-URL:https://eventfuchs.org
X-WR-CALDESC:Veranstaltungen für Events aus Nachhaltigkeit, Kultur und Gesellschaft
REFRESH-INTERVAL;VALUE=DURATION:PT1H
X-Robots-Tag:noindex
X-PUBLISHED-TTL:PT1H
BEGIN:VTIMEZONE
TZID:Europe/Berlin
BEGIN:DAYLIGHT
TZOFFSETFROM:+0100
TZOFFSETTO:+0200
TZNAME:CEST
DTSTART:20240331T010000
END:DAYLIGHT
BEGIN:STANDARD
TZOFFSETFROM:+0200
TZOFFSETTO:+0100
TZNAME:CET
DTSTART:20241027T010000
END:STANDARD
BEGIN:DAYLIGHT
TZOFFSETFROM:+0100
TZOFFSETTO:+0200
TZNAME:CEST
DTSTART:20250330T010000
END:DAYLIGHT
BEGIN:STANDARD
TZOFFSETFROM:+0200
TZOFFSETTO:+0100
TZNAME:CET
DTSTART:20251026T010000
END:STANDARD
BEGIN:DAYLIGHT
TZOFFSETFROM:+0100
TZOFFSETTO:+0200
TZNAME:CEST
DTSTART:20260329T010000
END:DAYLIGHT
BEGIN:STANDARD
TZOFFSETFROM:+0200
TZOFFSETTO:+0100
TZNAME:CET
DTSTART:20261025T010000
END:STANDARD
END:VTIMEZONE
BEGIN:VEVENT
DTSTART;TZID=Europe/Berlin:20250116T193000
DTEND;TZID=Europe/Berlin:20250116T220000
DTSTAMP:20260422T121354
CREATED:20241220T110616Z
LAST-MODIFIED:20241220T110616Z
UID:4132-1737055800-1737064800@eventfuchs.org
SUMMARY:Hamburg: KLAPSENBESTE - Kathi Wolf
DESCRIPTION:+++++ S O N D E R P R E I S € 20\,- +++++\nKathi Wolf ist Psychologin – und selbst ihre beste Kundin. Im ständigen Gedankenkarussell wird es auch der selbst ernannten Klapsenbesten schwindelig\, mal endet die Fahrt im Weltschmerz\, mal im Aktivismus. In einem Spagat zwischen Stand Up Comedy und politischem Kabarett kämpft die Hobby-Boxerin gegen die Stigmatisierung psychischer Störungen\, erkundet auf urkomische Art ihre eigenen sowie gesellschaftlichen „Special Effects“ und steigt nebenbei auch gerne mit dem Patriarchat in den Ring. \nIn Zeiten von extremen Therapieplatzmangel treiben Quacksalber und Wunderheilerinnen ihr Unwesen und auch die kapitalistische Ausschlachtung des eigenen Leids ist in Zeiten von social media anerkannter als die eigentliche Erkrankung. Die Quittung kommt – von der Klapsenbesten persönlich. \nWarum gehen weniger Frauen als Männer in die Politik? Wie sieht eine Familienaufstellung im Bundestag aus? Und was passiert\, wenn ein Abgeordneter zu ihr in Therapie kommt? Mit Wort\, Witz und Musik bringt sie psychologische Fachkenntnis mit einem Augenzwinkern und politisches Kabarett auf die Bühne. \nDie Klapsenbeste beweist: Humor ist eine Therapieform. \n\nZum Ablauf:\n1) an der Kasse Euren Namen und das Zauberwort nennen (wird mit der Anmeldebestätigung bekannt gegeben) und die Karte zum Sonderpreis € 20\,- erhalten \n2) im Foyer den Stehtisch mit dem Aufsteller „Lebensfreunde“ finden und dort bis zum Beginn der Vorstellung sowie in der Pause nach Herzenslust schnacken. \nWICHTIG:\nTeil des Deals mit Alma Hoppe ist\, daß wir unser Sonderkontigent auch abrufen. Deshalb:\nKurzfristige Absagen bitte nur im absoluten Notfall. \n\n\n\n\n\nSONDERPREIS für eventfuchs-Abonnenten: 20 €. Bitte Codewort per E-Mail an info@eventfuchs.org erfragen
URL:https://eventfuchs.org/event/hamburg-klapsenbeste-kathi-wolf/
LOCATION:Alma Hoppes Lustspielhaus\, Ludolfstraße 53\, Hamburg\, 20249
CATEGORIES:Freizeit,Kultur,Netzwerken,Präsenzveranstaltung
ATTACH;FMTTYPE=image/jpeg:https://eventfuchs.org/wp-content/uploads/2024/12/Klapsenbeste.jpg
ORGANIZER;CN="Alma Hoppes Lustspielhaus":MAILTO:mail@almahoppe.de
END:VEVENT
END:VCALENDAR